BEGIN:VCALENDAR
VERSION:2.0
PRODID:icalendar-ruby
CALSCALE:GREGORIAN
METHOD:PUBLISH
BEGIN:VEVENT
DTSTAMP:20260425T025406Z
UID:5-1808519@stdavidsleduc.com
DTSTART:20261025T163000Z
DTEND:20261025T173000Z
CLASS:PUBLIC
CREATED:20260424T184003
DESCRIPTION:Sunday Worship Service
LAST-MODIFIED:20260424T184003
LOCATION:
SUMMARY:Sunday Worship Service
URL;VALUE=URI:https://www.stdavidsleduc.com/events/sunday-worship-service/2
 026-10-25
END:VEVENT
END:VCALENDAR
