BEGIN:VCALENDAR
VERSION:2.0
PRODID:icalendar-ruby
CALSCALE:GREGORIAN
METHOD:PUBLISH
BEGIN:VEVENT
DTSTAMP:20260422T084225Z
UID:248-1765378@stdavidsleduc.com
DTSTART:20260503T173000Z
DTEND:20260503T183000Z
CLASS:PUBLIC
CREATED:20260416T143317
DESCRIPTION:Please join us for a Pie Auction after church on Sunday\, May 3
  - hosted by the Inreach/Outreach Committee. \nBefore church label and br
 ing your pie or pies for the auction.\nBid for your favourite pies. \nSli
 ces of pie will also be for sale.\nProceeds will go to Mission &amp\; Serv
 ice.\nStay After Church May 3 And Join The Fun!
LAST-MODIFIED:20260416T143317
LOCATION:4614 - 48 Street\, Leduc\, AB
SUMMARY:Pie Auction at St. David's
URL;VALUE=URI:https://www.stdavidsleduc.com/events/pie-auction-at-st-davids
 --248/2026-05-03
ATTACH;FILENAME=2025 Pie WEB.png;FMTTYPE=image/png:https://dq5pwpg1q8ru0.cl
 oudfront.net/2026/04/16/20/33/17/6a3e98b0-846b-4a16-bf9b-3aecede6e7e0/2025
 %20Pie%20WEB.png
END:VEVENT
END:VCALENDAR
